BEGIN:VCALENDAR
VERSION:2.0
PRODID:-//AudioTheme 2.3.8
BEGIN:VEVENT
UID:urn:uuid:90cddad0-e356-4b78-ac0d-9b345a6ac7ed
URL:https://mitchmcvicker.com/concerts/gig-1181/
DTSTART;VALUE=DATE:20151016
SUMMARY:Stephens United Methodist Church
LOCATION:Stephens United Methodist Church\, Dearborn Heights\, MI
END:VEVENT
END:VCALENDAR
