BEGIN:VCALENDAR
VERSION:2.0
PRODID:-//AudioTheme 2.3.8
BEGIN:VEVENT
UID:urn:uuid:13ac9dcc-d69e-46a1-a9e8-83ba62faa0ac
URL:https://mitchmcvicker.com/concerts/gig-1179/
DTSTART;VALUE=DATE:20151015
SUMMARY:Vincennes University Christian Campus Fellowship
LOCATION:Vincennes University Christian Campus Fellowship\, Vincennes\, IN
END:VEVENT
END:VCALENDAR
