BEGIN:VCALENDAR
VERSION:2.0
PRODID:-//AudioTheme 2.3.8
BEGIN:VEVENT
UID:urn:uuid:3091cd31-ab6a-4d3a-8f04-b123e98a10ff
URL:https://mitchmcvicker.com/concerts/gig-1175/
DTSTART;VALUE=DATE:20151004
SUMMARY:Camp Christian
LOCATION:Camp Christian\, Mill Run\, PA
END:VEVENT
END:VCALENDAR
