BEGIN:VCALENDAR
VERSION:2.0
PRODID:-//AudioTheme 2.3.8
BEGIN:VEVENT
UID:urn:uuid:a2e4850e-5d76-4f43-a4e0-5cd8dcbb9ad0
URL:https://mitchmcvicker.com/concerts/gig-1171/
DTSTART;VALUE=DATE:20151002
SUMMARY:Shalom Baptist Church
LOCATION:Shalom Baptist Church\, Byesville\, OH
END:VEVENT
END:VCALENDAR
