BEGIN:VCALENDAR
VERSION:2.0
PRODID:-//AudioTheme 2.3.8
BEGIN:VEVENT
UID:urn:uuid:1df68431-68b2-43a3-bf0d-844bb7c9d77c
URL:https://mitchmcvicker.com/concerts/gig-1169/
DTSTART;VALUE=DATE:20151001
SUMMARY:House Concert
LOCATION:House Concert\, Nashville\, IL
END:VEVENT
END:VCALENDAR
