BEGIN:VCALENDAR
VERSION:2.0
PRODID:-//AudioTheme 2.3.8
BEGIN:VEVENT
UID:urn:uuid:b8b268bb-5eeb-4b66-96f5-5420c42e538c
URL:https://mitchmcvicker.com/concerts/gig-1167/
DTSTART;VALUE=DATE:20150930
SUMMARY:House Concert
LOCATION:House Concert\, St. Louis\, MO
END:VEVENT
END:VCALENDAR
