BEGIN:VCALENDAR
VERSION:2.0
PRODID:-//AudioTheme 2.3.8
BEGIN:VEVENT
UID:urn:uuid:d5befb4b-6c11-49be-a04b-0ccc2de410f4
URL:https://mitchmcvicker.com/concerts/gig-1165/
DTSTART;VALUE=DATE:20150926
SUMMARY:Walking Stick Retreats/Westminster Woods Camp
LOCATION:Walking Stick Retreats/Westminster Woods Camp\, Fall River\, KS
END:VEVENT
END:VCALENDAR
