BEGIN:VCALENDAR
VERSION:2.0
PRODID:-//AudioTheme 2.3.8
BEGIN:VEVENT
UID:urn:uuid:d3dd91e3-1a72-4865-845f-5ca5316b53ce
URL:https://mitchmcvicker.com/concerts/gig-1163/
DTSTART;VALUE=DATE:20150920
SUMMARY:Hope Community Church
LOCATION:Hope Community Church\, 1831 E 21st St\, Andover\, KS
END:VEVENT
END:VCALENDAR
