BEGIN:VCALENDAR
VERSION:2.0
PRODID:-//AudioTheme 2.3.8
BEGIN:VEVENT
UID:urn:uuid:39f5fb45-3874-4dc5-831e-f4735c1dc7ce
URL:https://mitchmcvicker.com/concerts/gig-1161/
DTSTART;VALUE=DATE:20150919
SUMMARY:Lighthouse Bible Church
LOCATION:Lighthouse Bible Church\, Topeka\, KS
END:VEVENT
END:VCALENDAR
