BEGIN:VCALENDAR
VERSION:2.0
PRODID:-//AudioTheme 2.3.8
BEGIN:VEVENT
UID:urn:uuid:b13a7215-91ad-4be3-99c0-ae967dfed8bc
URL:https://mitchmcvicker.com/concerts/gig-1156/
DTSTART;VALUE=DATE:20150813
SUMMARY:Rock The Park/ Greenspace on Main Street
LOCATION:Rock The Park/ Greenspace on Main Street\, Maquoketa\, IA
END:VEVENT
END:VCALENDAR
