BEGIN:VCALENDAR
VERSION:2.0
PRODID:-//AudioTheme 2.3.8
BEGIN:VEVENT
UID:urn:uuid:a06e1e19-e790-46e6-8be0-01510af0c855
URL:https://mitchmcvicker.com/concerts/gig-1154/
DTSTART;VALUE=DATE:20150912
SUMMARY:Second Saturday Sing/Barn Again Farm
LOCATION:Second Saturday Sing/Barn Again Farm\, Elgin\, IL
END:VEVENT
END:VCALENDAR
