BEGIN:VCALENDAR
VERSION:2.0
PRODID:-//AudioTheme 2.3.8
BEGIN:VEVENT
UID:urn:uuid:549e5aef-8c4c-44fa-854c-69b4a845cbc1
URL:https://mitchmcvicker.com/concerts/gig-1152/
DTSTART;VALUE=DATE:20150911
SUMMARY:Lutheran Church of the Master
LOCATION:Lutheran Church of the Master\, Carol Stream\, IL
END:VEVENT
END:VCALENDAR
