BEGIN:VCALENDAR
VERSION:2.0
PRODID:-//AudioTheme 2.3.8
BEGIN:VEVENT
UID:urn:uuid:a5187688-9d25-4de8-b4d3-5654bd63fd2d
URL:https://mitchmcvicker.com/concerts/gig-1150/
DTSTART;VALUE=DATE:20150910
SUMMARY:Mosaic Christian Church-West
LOCATION:Mosaic Christian Church-West\, O'Fallon\, MO
END:VEVENT
END:VCALENDAR
