BEGIN:VCALENDAR
VERSION:2.0
PRODID:-//AudioTheme 2.3.8
BEGIN:VEVENT
UID:urn:uuid:8a2c5c00-38eb-46ed-99f5-6290161e21fa
URL:https://mitchmcvicker.com/concerts/gig-1148/
DTSTART;VALUE=DATE:20150823
SUMMARY:Heath Church of Christ
LOCATION:Heath Church of Christ\, Heath\, OH
END:VEVENT
END:VCALENDAR
