BEGIN:VCALENDAR
VERSION:2.0
PRODID:-//AudioTheme 2.3.8
BEGIN:VEVENT
UID:urn:uuid:1afac8bd-b37b-4633-9974-aa93fdd79861
URL:https://mitchmcvicker.com/concerts/gig-1147/
DTSTART;VALUE=DATE:20150823
SUMMARY:Mt. Zion UMC
LOCATION:Mt. Zion UMC\, Celina\, OH
END:VEVENT
END:VCALENDAR
