BEGIN:VCALENDAR
VERSION:2.0
PRODID:-//AudioTheme 2.3.8
BEGIN:VEVENT
UID:urn:uuid:3f0bbd29-ec92-46ea-885b-7dcc740e9663
URL:https://mitchmcvicker.com/concerts/gig-1145/
DTSTART;VALUE=DATE:20150822
SUMMARY:Westchester United Methodist Church
LOCATION:Westchester United Methodist Church\, Portland\, IN
END:VEVENT
END:VCALENDAR
