BEGIN:VCALENDAR
VERSION:2.0
PRODID:-//AudioTheme 2.3.8
BEGIN:VEVENT
UID:urn:uuid:611c1884-86e7-488a-9767-99c116b96704
URL:https://mitchmcvicker.com/concerts/gig-1144/
DTSTART;VALUE=DATE:20150821
SUMMARY:POSTPONED Christ Church
LOCATION:POSTPONED Christ Church\, 531 Washington St\, POSTPONED Michigan City\, IN\, 46360
END:VEVENT
END:VCALENDAR
