BEGIN:VCALENDAR
VERSION:2.0
PRODID:-//AudioTheme 2.3.8
BEGIN:VEVENT
UID:urn:uuid:2caca7c5-6235-4da8-8f03-23f4387815ae
URL:https://mitchmcvicker.com/concerts/gig-1142/
DTSTART;VALUE=DATE:20150820
SUMMARY:Christ Church Presbyterian
LOCATION:Christ Church Presbyterian\, Cedar Rapids\, IA
END:VEVENT
END:VCALENDAR
