BEGIN:VCALENDAR
VERSION:2.0
PRODID:-//AudioTheme 2.3.8
BEGIN:VEVENT
UID:urn:uuid:14160b40-1b14-4a24-a8bb-58e7256cfc9b
URL:https://mitchmcvicker.com/concerts/gig-1140/
DTSTART;VALUE=DATE:20150819
SUMMARY:The Shed
LOCATION:The Shed\, Spring Green\, WI
END:VEVENT
END:VCALENDAR
