BEGIN:VCALENDAR
VERSION:2.0
PRODID:-//AudioTheme 2.3.8
BEGIN:VEVENT
UID:urn:uuid:54646e52-b8d2-4e72-8292-83ed1f16215d
URL:https://mitchmcvicker.com/concerts/gig-1138/
DTSTART;VALUE=DATE:20150809
SUMMARY:Bertha Frank Performing Arts Center
LOCATION:Bertha Frank Performing Arts Center\, Morton\, IL
END:VEVENT
END:VCALENDAR
