BEGIN:VCALENDAR
VERSION:2.0
PRODID:-//AudioTheme 2.3.8
BEGIN:VEVENT
UID:urn:uuid:50fb07ce-79a8-4854-bb9f-5b03417c941b
URL:https://mitchmcvicker.com/concerts/gig-1136/
DTSTART;VALUE=DATE:20150808
SUMMARY:Lion and Lamb Fest/Camp Milan Retreat Center
LOCATION:Lion and Lamb Fest/Camp Milan Retreat Center\, Milan\, IL
END:VEVENT
END:VCALENDAR
