BEGIN:VCALENDAR
VERSION:2.0
PRODID:-//AudioTheme 2.3.8
BEGIN:VEVENT
UID:urn:uuid:5941e019-b02a-4376-a098-1c47e8dc92ae
URL:https://mitchmcvicker.com/concerts/gig-1134/
DTSTART;VALUE=DATE:20150807
SUMMARY:Elburn Hill Church
LOCATION:Elburn Hill Church\, Elburn\, IL
END:VEVENT
END:VCALENDAR
