BEGIN:VCALENDAR
VERSION:2.0
PRODID:-//AudioTheme 2.3.8
BEGIN:VEVENT
UID:urn:uuid:cbde5ac1-a85d-47db-9de7-9940ae07a6b1
URL:https://mitchmcvicker.com/concerts/gig-1130/
DTSTART;VALUE=DATE:20150726
SUMMARY:Venice Church of the Nazarene
LOCATION:Venice Church of the Nazarene\, Venice\, FL
END:VEVENT
END:VCALENDAR
