BEGIN:VCALENDAR
VERSION:2.0
PRODID:-//AudioTheme 2.3.8
BEGIN:VEVENT
UID:urn:uuid:da393a1e-fba8-4839-bd1e-142612472edd
URL:https://mitchmcvicker.com/concerts/gig-1128/
DTSTART;VALUE=DATE:20150725
SUMMARY:Evangelical Presbyterian Church
LOCATION:Evangelical Presbyterian Church\, Plant City\, FL
END:VEVENT
END:VCALENDAR
