BEGIN:VCALENDAR
VERSION:2.0
PRODID:-//AudioTheme 2.3.8
BEGIN:VEVENT
UID:urn:uuid:37da7298-ca70-4d38-ab7e-220b08e80c0e
URL:https://mitchmcvicker.com/concerts/gig-1127/
DTSTART;VALUE=DATE:20150721
SUMMARY:Indian Creek Baptist Camp
LOCATION:Indian Creek Baptist Camp\, Bedford\, IN
END:VEVENT
END:VCALENDAR
