BEGIN:VCALENDAR
VERSION:2.0
PRODID:-//AudioTheme 2.3.8
BEGIN:VEVENT
UID:urn:uuid:bcecb216-800b-403e-a8da-82eaa49d343d
URL:https://mitchmcvicker.com/concerts/gig-1125/
DTSTART;VALUE=DATE:20150719
SUMMARY:Salina Heights Christian Church
LOCATION:Salina Heights Christian Church\, Salina\, KS
END:VEVENT
END:VCALENDAR
