BEGIN:VCALENDAR
VERSION:2.0
PRODID:-//AudioTheme 2.3.8
BEGIN:VEVENT
UID:urn:uuid:fa0e1b05-102b-4d05-b229-254ba7448e32
URL:https://mitchmcvicker.com/concerts/gig-1123/
DTSTART;VALUE=DATE:20150718
SUMMARY:Inkling Festival/ Eighth Day Institute
LOCATION:Inkling Festival/ Eighth Day Institute\, Wichita\, KS
END:VEVENT
END:VCALENDAR
