BEGIN:VCALENDAR
VERSION:2.0
PRODID:-//AudioTheme 2.3.8
BEGIN:VEVENT
UID:urn:uuid:a88ec073-83ff-4865-ac9b-cf26d2b4d0aa
URL:https://mitchmcvicker.com/concerts/gig-1121/
DTSTART;VALUE=DATE:20150711
SUMMARY:Family Fun Concert/Courthouse Park
LOCATION:Family Fun Concert/Courthouse Park\, Ainsworth\, NE
END:VEVENT
END:VCALENDAR
