BEGIN:VCALENDAR
VERSION:2.0
PRODID:-//AudioTheme 2.3.8
BEGIN:VEVENT
UID:urn:uuid:aef1c715-2c04-49c7-9b4c-f0cf4076ee30
URL:https://mitchmcvicker.com/concerts/gig-1119/
DTSTART;VALUE=DATE:20150703
SUMMARY:Derby Friends Church
LOCATION:Derby Friends Church\, Derby\, KS
END:VEVENT
END:VCALENDAR
