BEGIN:VCALENDAR
VERSION:2.0
PRODID:-//AudioTheme 2.3.8
BEGIN:VEVENT
UID:urn:uuid:72802d12-39d5-4718-ac3d-e0e10513c1c3
URL:https://mitchmcvicker.com/concerts/gig-1117/
DTSTART;VALUE=DATE:20150517
SUMMARY:Plum Creek Christian Church
LOCATION:Plum Creek Christian Church\, Butler\, KY
END:VEVENT
END:VCALENDAR
