BEGIN:VCALENDAR
VERSION:2.0
PRODID:-//AudioTheme 2.3.8
BEGIN:VEVENT
UID:urn:uuid:ac71ca4d-fefd-4305-b964-272d49f30fa4
URL:https://mitchmcvicker.com/concerts/gig-1115/
DTSTART;VALUE=DATE:20150516
SUMMARY:Journey Church
LOCATION:Journey Church\, Westerville\, OH
END:VEVENT
END:VCALENDAR
