BEGIN:VCALENDAR
VERSION:2.0
PRODID:-//AudioTheme 2.3.8
BEGIN:VEVENT
UID:urn:uuid:7ddbc349-a36a-4a90-a8fa-eaccc470baaa
URL:https://mitchmcvicker.com/concerts/gig-1114/
DTSTART;VALUE=DATE:20150515
SUMMARY:St. Michael Lutheran Church
LOCATION:St. Michael Lutheran Church\, Canton\, MI
END:VEVENT
END:VCALENDAR
