BEGIN:VCALENDAR
VERSION:2.0
PRODID:-//AudioTheme 2.3.8
BEGIN:VEVENT
UID:urn:uuid:8225129e-dc15-40e1-99e2-2115e8374d29
URL:https://mitchmcvicker.com/concerts/gig-1112/
DTSTART;VALUE=DATE:20150513
SUMMARY:Holton Christian Church - Church in the Park
LOCATION:Holton Christian Church - Church in the Park\, Holton Community Park 6805 W. Versailles St.\, Holton\, IN
END:VEVENT
END:VCALENDAR
