BEGIN:VCALENDAR
VERSION:2.0
PRODID:-//AudioTheme 2.3.8
BEGIN:VEVENT
UID:urn:uuid:3baf4edd-d2c9-4dd2-acf4-1c616e5f28a4
URL:https://mitchmcvicker.com/concerts/gig-1110/
DTSTART;VALUE=DATE:20150512
SUMMARY:Sugar Grove Free Methodist Church
LOCATION:Sugar Grove Free Methodist Church\, Terre Haute\, IN
END:VEVENT
END:VCALENDAR
