BEGIN:VCALENDAR
VERSION:2.0
PRODID:-//AudioTheme 2.3.8
BEGIN:VEVENT
UID:urn:uuid:5ef3e734-6307-424c-8469-719ac2e5d7ea
URL:https://mitchmcvicker.com/concerts/gig-1106/
DTSTART;VALUE=DATE:20150503
SUMMARY:New Generation Ministries
LOCATION:New Generation Ministries\, Jasper\, AL
END:VEVENT
END:VCALENDAR
