BEGIN:VCALENDAR
VERSION:2.0
PRODID:-//AudioTheme 2.3.8
BEGIN:VEVENT
UID:urn:uuid:916fa6d3-58b0-43d6-b7a2-4ad99f74166f
URL:https://mitchmcvicker.com/concerts/gig-1104/
DTSTART;VALUE=DATE:20150501
SUMMARY:Columbus Air Force Base Chapel Retreat
LOCATION:Columbus Air Force Base Chapel Retreat\, Macon\, MS
END:VEVENT
END:VCALENDAR
