BEGIN:VCALENDAR
VERSION:2.0
PRODID:-//AudioTheme 2.3.8
BEGIN:VEVENT
UID:urn:uuid:987e421a-5809-44b0-a16e-c87b7f5da0a9
URL:https://mitchmcvicker.com/concerts/gig-1102/
DTSTART;VALUE=DATE:20150430
SUMMARY:Greensburg Church of the Nazarene
LOCATION:Greensburg Church of the Nazarene\, Greensburg\, KY
END:VEVENT
END:VCALENDAR
