BEGIN:VCALENDAR
VERSION:2.0
PRODID:-//AudioTheme 2.3.8
BEGIN:VEVENT
UID:urn:uuid:d377b6c7-777a-438b-a7d7-618d70ffd71c
URL:https://mitchmcvicker.com/concerts/gig-1100/
DTSTART;VALUE=DATE:20150429
SUMMARY:Koke Mill Christian Church
LOCATION:Koke Mill Christian Church\, Springfield\, IL
END:VEVENT
END:VCALENDAR
