BEGIN:VCALENDAR
VERSION:2.0
PRODID:-//AudioTheme 2.3.8
BEGIN:VEVENT
UID:urn:uuid:9e429145-05d5-46ec-87fc-768bb03ee2bf
URL:https://mitchmcvicker.com/concerts/gig-110/
DTSTART;TZID=GMT:20160228T010000
SUMMARY:Longview Christian Church
LOCATION:Longview Christian Church\, Longview\, TX
END:VEVENT
END:VCALENDAR
