BEGIN:VCALENDAR
VERSION:2.0
PRODID:-//AudioTheme 2.3.8
BEGIN:VEVENT
UID:urn:uuid:c7539c46-311f-45dc-83bd-7e0b37d9cc6f
URL:https://mitchmcvicker.com/concerts/gig-1098/
DTSTART;VALUE=DATE:20150427
SUMMARY:Trinity Lutheran Church
LOCATION:Trinity Lutheran Church\, Stevens Pointe\, WI
END:VEVENT
END:VCALENDAR
