BEGIN:VCALENDAR
VERSION:2.0
PRODID:-//AudioTheme 2.3.8
BEGIN:VEVENT
UID:urn:uuid:e0765c72-c8bb-4a0f-b7e4-7a9e9b42449f
URL:https://mitchmcvicker.com/concerts/gig-1097/
DTSTART;VALUE=DATE:20150426
SUMMARY:Northwoods Assembly
LOCATION:Northwoods Assembly\, Perham\, \, MN
END:VEVENT
END:VCALENDAR
