BEGIN:VCALENDAR
VERSION:2.0
PRODID:-//AudioTheme 2.3.8
BEGIN:VEVENT
UID:urn:uuid:559c4510-29d0-41bc-8a9c-b94397070070
URL:https://mitchmcvicker.com/concerts/gig-1096/
DTSTART;VALUE=DATE:20150426
SUMMARY:South Metro Vineyard Church
LOCATION:South Metro Vineyard Church\, 13798 Parkwood Dr\, Burnsville\, MN\, USA\, 55337
END:VEVENT
END:VCALENDAR
