BEGIN:VCALENDAR
VERSION:2.0
PRODID:-//AudioTheme 2.3.8
BEGIN:VEVENT
UID:urn:uuid:d8fb7c90-a7ec-47ee-ab9b-254cc0ab28b3
URL:https://mitchmcvicker.com/concerts/gig-1094/
DTSTART;VALUE=DATE:20150425
SUMMARY:Crosswinds Community Church
LOCATION:Crosswinds Community Church\, Stillwater\, MN
END:VEVENT
END:VCALENDAR
