BEGIN:VCALENDAR
VERSION:2.0
PRODID:-//AudioTheme 2.3.8
BEGIN:VEVENT
UID:urn:uuid:863704f6-6371-483e-8efa-32fbee776ac3
URL:https://mitchmcvicker.com/concerts/gig-1092/
DTSTART;VALUE=DATE:20150424
SUMMARY:Blind Munchies Coffeehouse
LOCATION:Blind Munchies Coffeehouse\, Menomonie\, WI
END:VEVENT
END:VCALENDAR
