BEGIN:VCALENDAR
VERSION:2.0
PRODID:-//AudioTheme 2.3.8
BEGIN:VEVENT
UID:urn:uuid:5962472c-6240-43ff-8cf9-5c7444f628e7
URL:https://mitchmcvicker.com/concerts/gig-1088/
DTSTART;VALUE=DATE:20150418
SUMMARY:Yola's Cafe
LOCATION:Yola's Cafe\, Madison\, WI
END:VEVENT
END:VCALENDAR
