BEGIN:VCALENDAR
VERSION:2.0
PRODID:-//AudioTheme 2.3.8
BEGIN:VEVENT
UID:urn:uuid:9a1635ce-9cd4-4633-aac1-9882bdd43ed6
URL:https://mitchmcvicker.com/concerts/gig-1086/
DTSTART;VALUE=DATE:20150417
SUMMARY:St. Mary's Parish
LOCATION:St. Mary's Parish\, Bloomington\, IL
END:VEVENT
END:VCALENDAR
