BEGIN:VCALENDAR
VERSION:2.0
PRODID:-//AudioTheme 2.3.8
BEGIN:VEVENT
UID:urn:uuid:0fdf2270-703f-40c7-8529-a8f32286a990
URL:https://mitchmcvicker.com/concerts/gig-1085/
DTSTART;VALUE=DATE:20150416
SUMMARY:Cornerstone Fellowship Church
LOCATION:Cornerstone Fellowship Church\, Shenandoah\, IA
END:VEVENT
END:VCALENDAR
