BEGIN:VCALENDAR
VERSION:2.0
PRODID:-//AudioTheme 2.3.8
BEGIN:VEVENT
UID:urn:uuid:99ff1936-4824-4814-aaaf-2c6c708cae7e
URL:https://mitchmcvicker.com/concerts/gig-1083/
DTSTART;VALUE=DATE:20150412
SUMMARY:Shaw Shindig
LOCATION:Shaw Shindig\, Leander\, TX
END:VEVENT
END:VCALENDAR
