BEGIN:VCALENDAR
VERSION:2.0
PRODID:-//AudioTheme 2.3.8
BEGIN:VEVENT
UID:urn:uuid:3104efd3-2a65-4f89-b385-9033c2a9acf7
URL:https://mitchmcvicker.com/concerts/gig-1079/
DTSTART;VALUE=DATE:20150410
SUMMARY:East Bartlesville Christian Church
LOCATION:East Bartlesville Christian Church\, Bartlesville\, OK
END:VEVENT
END:VCALENDAR
