BEGIN:VCALENDAR
VERSION:2.0
PRODID:-//AudioTheme 2.3.8
BEGIN:VEVENT
UID:urn:uuid:e3fedecc-c123-4c62-aa1b-aa1a1479185e
URL:https://mitchmcvicker.com/concerts/gig-1078/
DTSTART;VALUE=DATE:20150409
SUMMARY:POSTPONED
LOCATION:POSTPONED\, POSTPONED Valley Center\, KS\, 67147
END:VEVENT
END:VCALENDAR
